BEGIN:VCALENDAR
VERSION:2.0
PRODID:-//ChurchDev//Events//EN
CALSCALE:GREGORIAN
METHOD:PUBLISH
BEGIN:VEVENT
UID:2944-20210804@www.pikesvillesda.org
SUMMARY:Prayer Meeting and Bible Study
DTSTART:20210804T230000Z
DTEND:20210805T121500Z
DESCRIPTION:https://www.pikesvillesda.org/events/prayer-meeting/
LOCATION:4619 Old Court Rd Pikesville\, MD 21208-2402
URL:https://www.pikesvillesda.org/events/prayer-meeting/
DTSTAMP:20260420T023622Z
END:VEVENT
END:VCALENDAR
