BEGIN:VCALENDAR
VERSION:2.0
PRODID:-//ChurchDev//Events//EN
CALSCALE:GREGORIAN
METHOD:PUBLISH
BEGIN:VEVENT
UID:2945-20210807@www.pikesvillesda.org
SUMMARY:Sabbath School
DTSTART:20210807T133000Z
DTEND:20210807T143000Z
DESCRIPTION:https://www.pikesvillesda.org/events/sabbath-school/
LOCATION:4619 Old Court Rd Pikesville\, MD 21208-2402
URL:https://www.pikesvillesda.org/events/sabbath-school/
DTSTAMP:20260420T023649Z
END:VEVENT
END:VCALENDAR
